Workbook

Sheet Planilha1
B1: PAVIMENTAÇÃO DE VIAS URBANAS | T1: DATA: | U1: 43484
C2: PAVIMENTAÇÃO | M2: CALÇADA (espessura 7 cm) | R2: MEIO FIO | T2: SARJETA (m)
A3: Item | B3: Logadouro | C3: Comprim. (m) | D3: Larg. (m) | E3: Cálculo c/ sarjeta | H3: Área c/ sarjeta(m2) | I3: Cálculo s/ sarjeta | L3: Área s/ sarjeta(m2) | M3: =C3 -> Comprim. (m) | N3: Calculo | O3: Larg. (m) | P3: Área (m2) | Q3: Volume (m3) | R3: meio fio (m) | S3: Cálculo sarjeta | T3: sarjeta (m) | U3: Cálculo Meio fio
A4: 1 | B4: SEDE DO MUNICIPIO
A5: 1.1 | B5: Rua josé de Almeida | C5: 100 | D5: 7 | E5: =C5 -> 100 | F5: x | G5: =D5 -> 7 | H5: =E5*D5 -> 700 | I5: =C5 -> 100 | J5: =F5 -> x | K5: =D5-0.6 -> 6.4 | L5: =C5*(D5-0.6) -> 640 | M5: 200 | N5: x | O5: 1.5 | P5: =M5*O5 -> 300 | Q5: =P5*0.07 -> 21 | R5: 200 | S5: 100*2 | T5: =R5 -> 200 | U5: =S5 -> 100*2
A6: 1.2 | B6: Rua José Ferreira Costa | C6: 140 | D6: 6.6 | E6: =C6 -> 140 | F6: x | G6: =D6 -> 6.6 | H6: =E6*D6 -> 924 | I6: =C6 -> 140 | J6: =F6 -> x | K6: =D6-0.6 -> 6 | L6: =C6*(D6-0.6) -> 840 | M6: 280 | N6: x | O6: 1.5 | P6: =M6*O6 -> 420 | Q6: =P6*0.07 -> 29.4 | R6: =(C6)*2 -> 280 | S6: 140*2 | T6: =R6 -> 280 | U6: =S6 -> 140*2
A7: 1.3 | B7: Rua Mendes Ramos | C7: 342 | D7: 6.6 | E7: =C7 -> 342 | F7: x | G7: =D7 -> 6.6 | H7: =E7*D7 -> 2257.2 | I7: =C7 -> 342 | J7: =F7 -> x | K7: =D7-0.6 -> 6 | L7: =C7*(D7-0.6)+(5*6*2) -> 2112 | M7: =684-(7*6) -> 642 | N7: x | O7: 1.5 | P7: =M7*O7 -> 963 | Q7: =P7*0.07 -> 67.41 | R7: =(342*2)-(7*6)+(2*5) -> 652 | S7: (342*2)-(7*6)+(2*5) | T7: =(342*2)-(6*7)+(2*5) -> 652 | U7: (342*2)-(6*7)+(2*5)
A8: 1.4 | B8: Rua Porfírio Souto de Almeida | C8: 110 | D8: 6.6 | E8: =C8 -> 110 | F8: x | G8: =D8 -> 6.6 | H8: =E8*D8 -> 726 | I8: =C8 -> 110 | J8: =F8 -> x | K8: =D8-0.6 -> 6 | L8: =C8*(D8-0.6) -> 660 | M8: =110*2 -> 220 | N8: x | O8: 1.5 | P8: =M8*O8 -> 330 | Q8: =P8*0.07 -> 23.1 | R8: =(C8)*2 -> 220 | S8: 110*2 | T8: =110*2 -> 220 | U8: =110*2 -> 220
A9: 1.5 | B9: Rua Manoel Ferreira | C9: 86 | D9: 6.6 | E9: =C9 -> 86 | F9: x | G9: =D9 -> 6.6 | H9: =E9*D9 -> 567.6 | I9: =C9 -> 86 | J9: =F9 -> x | K9: =D9-0.6 -> 6 | L9: =C9*(D9-0.6) -> 516 | M9: =86*2 -> 172 | N9: x | O9: 1.5 | P9: =M9*O9 -> 258 | Q9: =P9*0.07 -> 18.06 | R9: =(C9)*2 -> 172 | S9: 86*2 | T9: =86*2 -> 172 | U9: 86*2
A10: 1.6 | B10: Rua Florisvaldo de Almeida | C10: 345 | D10: 7 | E10: =C10 -> 345 | F10: x | G10: =D10 -> 7 | H10: =E10*D10 -> 2415 | I10: =C10 -> 345 | J10: =F10 -> x | K10: =D10-0.6 -> 6.4 | L10: =C10*(D10-0.6)+(6*6*2) -> 2280 | M10: =690-(6*6) -> 654 | N10: x | O10: 1.5 | P10: =M10*O10 -> 981 | Q10: =P10*0.07 -> 68.67 | R10: =(345*2)-(6*6)+(12*2) -> 678 | S10: (345*2)-(6*6)+(12*2) | T10: =345*2-(6*6)+(12*2) -> 678 | U10: (345*2)-(6*6)+(12*2)
A11: 1.7 | B11: Maria Ribeiro Silva trcho 1 | C11: 110 | D11: 7.6 | E11: =C11 -> 110 | F11: x | G11: =D11 -> 7.6 | H11: =E11*D11 -> 836 | I11: =C11 -> 110 | J11: =F11 -> x | K11: =D11-0.6 -> 7 | L11: =C11*(D11-0.6) -> 770 | M11: 220 | N11: x | O11: 1.5 | P11: =M11*O11 -> 330 | Q11: =P11*0.07 -> 23.1 | R11: =(C11)*2 -> 220 | S11: 110*2 | T11: =110*2 -> 220 | U11: =S11 -> 110*2
A12: 1.8 | B12: Maria Ribeiro Silva trcho 2 | C12: 90 | D12: 7.6 | E12: =C12 -> 90 | F12: x | G12: =D12 -> 7.6 | H12: =E12*D12 -> 684 | I12: =C12 -> 90 | J12: =F12 -> x | K12: =D12-0.6 -> 7 | L12: =C12*(D12-0.6) -> 630 | M12: 180 | N12: x | O12: 1.5 | P12: =M12*O12 -> 270 | Q12: =P12*0.07 -> 18.9 | R12: =90*2 -> 180 | S12: 90*2 | T12: =90*2 -> 180 | U12: =S12 -> 90*2
A13: 1.9 | B13: Rua Versiano de Almeida | C13: 107 | D13: 6.9 | E13: =C13 -> 107 | F13: x | G13: =D13 -> 6.9 | H13: =E13*D13 -> 738.3 | I13: =C13 -> 107 | J13: =F13 -> x | K13: =D13-0.6 -> 6.3 | L13: =C13*(D13-0.6) -> 674.1 | M13: 214 | N13: x | O13: 1.5 | P13: =M13*O13 -> 321 | Q13: =P13*0.07 -> 22.47 | R13: =107*2 -> 214 | S13: 107*2 | T13: =107*2 -> 214 | U13: 107*2
A14: 1.10 | B14: Rua Santo Almeida | C14: 93 | D14: 6.6 | E14: =C14 -> 93 | F14: x | G14: =D14 -> 6.6 | H14: =E14*D14 -> 613.8 | I14: =C14 -> 93 | J14: =F14 -> x | K14: =D14-0.6 -> 6 | L14: =C14*(D14-0.6) -> 558 | M14: 186 | N14: x | O14: 1.5 | P14: =M14*O14 -> 279 | Q14: =P14*0.07 -> 19.53 | R14: =93*2 -> 186 | S14: 93*2 | T14: =93*2 -> 186 | U14: =S14 -> 93*2
A15: 1.11 | B15: Rua Adão Rufino | C15: 232 | D15: 8 | E15: =C15 -> 232 | F15: x | G15: =D15 -> 8 | H15: =E15*D15 -> 1856 | I15: =C15 -> 232 | J15: =F15 -> x | K15: =D15-0.6 -> 7.4 | L15: =C15*(D15-0.6) -> 1716.8 | M15: =464-(4*6) -> 440 | N15: x | O15: 1.5 | P15: =M15*O15 -> 660 | Q15: =P15*0.07 -> 46.2 | R15: =(232)*2-(4*7)+(13*6) -> 514 | S15: (232)*2-(4*7)+(13*6) | T15: =(232*2)-(4*7) -> 436 | U15: (232*2)-(4*7)
A16: 1.12 | B16: Rua Agostinho Marques | C16: 119 | D16: 6.6 | E16: 119 | F16: x | G16: =D16 -> 6.6 | H16: =E16*D16 -> 785.4 | I16: =C16 -> 119 | J16: =F16 -> x | K16: =D16-0.6 -> 6 | L16: =C16*(D16-0.6) -> 714 | M16: 97 | N16: x | O16: 1.5 | P16: =M16*O16 -> 145.5 | Q16: =P16*0.07 -> 10.185 | R16: =(97*2)+(6*2) -> 206 | S16: (97*2)+(6*2) | T16: =97*2 -> 194 | U16: 97*2
B18: TOTAL | C18: =SUM(C4:C17) -> 1874 | H18: =SUM(H4:H17) -> 13103.3 | L18: =SUM(L4:L17) -> 12110.9 | M18: =SUM(M5:M17) -> 3505 | P18: =SUM(P4:P17) -> 5257.5 | Q18: =SUM(Q4:Q17) -> 368.025 | R18: =SUM(R4:R17) -> 3722 | T18: =SUM(T4:T17) -> 3632
O19: volume (m3) | P19: =+P18*0.07 -> 368.025
A25: VINÍCIUS MODESTO COSTA MATOS
A26: Eng. Civil - CREA MG-219.180/D

Sheet Planilha Orçamentária BDMG
A1: PLANILHA ORÇAMENTÁRIA
A4: INFORMAÇÕES GERAIS | F4: REFERÊNCIA DE PREÇOS | I4: BDI (%)
F5: Planilha Referência | H5: Data Base
A6: Município: PREFEITURA MUNICIPAL DE NOVORIZONTE - MG | F6: SETOP_Norte | H6: out. 2018 | I6: 0.2228
A7: Projeto: PAVIMENTAÇÃO DE VIAS URBANAS | F7: SINAPI | H7: jan. 2019
A8: Responsável Técnico: VINÍCIUS MODESTO COSTA MATOS - CREA: MG219.180/D | F8: DNIT | H8: set. 2018
A9: Assinatura do Responsável Técnico: ____________________________________________
A11: Data: 19/01/2019
A12: PLANILHA ORÇAMENTÁRIA
A13: Item | B13: Código | C13: Descrição | D13: Unid. | E13: Quantidade Prevista | F13: Preço (R$) | H13: Preço (R$)
F14: Sem BDI | H14: Com BDI
F15: Unitário | G15: Total | H15: Unitário | I15: Total
A16: 1 | B16: INSTALAÇÕES INICIAIS DA OBRA | I16: =SUM(I17) -> 1098.26
A17: 1.1 | B17: IIO-PLA-005 | C17: FORNECIMENTOECOLOCAÇÃODEPLACADEOBRAEMCHAPAGALVANIZADA(3,00X1,50M)-EMCHAPAGALVANIZADA0,26AFIXADASCOMREBITES540EPARAFUSOS3/8,EMESTRUTURAMETÁLICAVIGAU2"ENRIJECIDACOMMETALON20X20,SUPORTEEM EUCALIPTO AUTOCLAVADO PINTADAS | D17: Unid. | E17: =L17 -> 1 | F17: 898.15 | G17: =F17*E17 -> 898.15 | H17: =F17*(1+$I$6) -> 1098.2578 | I17: =ROUND(H17*E17,2) -> 1098.26 | L17: 1
A18: 2 | B18: PAVIMENTAÇÃO | I18: =SUM(I20,I19) -> 632501.3
A19: 2.1 | B19: OBR-VIA-125 | C19: REGULARIZAÇÃO DO SUB-LEITO (PROCTOR NORMAL) | D19: m² | E19: =L19 -> 12110.9 | F19: 0.71 | G19: =F19*E19 -> 8598.739 | H19: =F19*(1+$I$6) -> 0.868188 | I19: =ROUND(H19*E19,2) -> 10514.54 | L19: =((6.4*100)+(140*6)+(342*6)+(5*2*6)+(110*6)+(86*6)+(345*6.4)+(6*2*6)+(200*7)+(107*6.3)+(93*6)+(232*7.4)+(119*6)) -> 12110.9
A20: 2.2 | B20: OBR-VIA-215 | C20: EXECUÇÃODECALÇAMENTOEMBLOQUETE-E=8CM - FCK=35MPA,INCLUINDOFORNECIMENTOETRANSPORTEDETODOSOSMATERIAIS, COLCHÃO DE ASSENTAMENTO E = 6 CM | D20: m² | E20: =L20 -> 12110.9 | F20: 42 | G20: =F20*E20 -> 508657.8 | H20: =F20*(1+$I$6) -> 51.3576 | I20: =ROUND(H20*E20,2) -> 621986.76 | L20: =((6.4*100)+(140*6)+(342*6)+(5*2*6)+(110*6)+(86*6)+(345*6.4)+(6*2*6)+(200*7)+(107*6.3)+(93*6)+(232*7.4)+(119*6)) -> 12110.9
A21: 3 | B21: CALÇADAS | I21: =SUM(I22:I24) -> 201656.85
A22: 3.1 | B22: 94990 | C22: EXECUÇÃO DE PASSEIO (CALÇADA) COM CONCRETO MOLDADO IN LOCO FEITO EM OBRA, ACABAMENTO CONVENCIONAL, NÃO ARMADO | D22: m³ | E22: =L22 -> 368.025 | F22: 382.77 | G22: =F22*E22 -> 140868.93 | H22: =F22*(1+$I$6) -> 468.05116 | I22: =ROUND(H22*E22,2) -> 172254.53 | L22: =(200+280+642+220+172+654+220+180+214+186+440+97)*1.5*0.07 -> 368.025
A23: 3.2 | B23: 38135 | C23: LADRILHO HIDRAULICO AMARELO 20X20 (DIRECIONAL) | D23: m² | E23: =L23 -> 682.2 | F23: 33.25 | G23: =F23*E23 -> 22683.15 | H23: =F23*(1+$I$6) -> 40.6581 | I23: =ROUND(H23*E23,2) -> 27736.96 | L23: =((200-12)+(280-12)+(680-49-36)+(220-12)+(172-12)+(690-42)+(400-14-24)+(214-12)+(186-12)+(464-28-12)+(194-12))*0.2 -> 682.2
A24: 3.3 | B24: 38135 | C24: LADRILHO HIDRAULICO VERMELHO 20X20 (ALERTA) | D24: m² | E24: =L24 -> 40.96 | F24: 33.25 | G24: =F24*E24 -> 1361.92 | H24: =F24*(1+$I$6) -> 40.6581 | I24: =ROUND(H24*E24,2) -> 1665.36 | L24: =((12.2+12.8+20+12.8+12.6+50.8+13.6+12.8+12.8+32.4+12))*0.2 -> 40.96
A25: 4 | B25: MEIO FIO E SARJETA | I25: =SUM(I26:I27) -> 237465.32
A26: 4.1 | B26: 94273 | C26: ASSENTAMENTO DE GUIA (MEIO-FIO) EM TRECHO RETO, CONFECCIONADA EM CONCRETOPRÉ-FABRICADO, DIMENSÕES 100X15X13X30 CM (COMPRIMENTO X BASE INFERIOR X BASE SUPERIOR X ALTURA), PARA VIAS URBANAS (USO VIÁRIO) | D26: m | E26: =L26 -> 3722 | F26: 29 | G26: =F26*E26 -> 107938 | H26: =F26*(1+$I$6) -> 35.4612 | I26: =ROUND(H26*E26,2) -> 131986.59 | L26: =ROUND((100*2)+(140*2)+(342*2-7*6+2*5)+(86*2)+(345*2-6*6+12*2)+(110*2)+(200*2)+(107*2)+(93*2)+(232*2-4*7),2)+(13*6)+(97*2)+(6*2) -> 3722
A27: 4.2 | B27: 94287 | C27: 30 CM BASE X 10 CM ALTURA EXECUÇÃO DE SARJETA DE CONCRETO USINADO, MOLDADA IN LOCO EM TRECHO RETO | D27: m | E27: =L27 -> 3632 | F27: 23.75 | G27: =F27*E27 -> 86260 | H27: =F27*(1+$I$6) -> 29.0415 | I27: =ROUND(H27*E27,2) -> 105478.73 | L27: =ROUND((100*2)+(140*2)+(342*2-7*6+2*5)+(86*2)+(345*2-6*6+12*2)+(110*2)+(200*2)+(107*2)+(93*2)+(232*2-4*7)+(97*2),2) -> 3632
A28: 5 | B28: SINALIZAÇÃO | I28: =SUM(I29:I32) -> 19278.27
A29: 5.1 | B29: 72947 | C29: SINALIZACAO HORIZONTAL COM TINTA RETRORREFLETIVA A BASE DE RESINA ACRILICA COM MICROESFERAS DE VIDRO | D29: m² | E29: =L29 -> 421.4625 | F29: 23.5 | G29: =F29*E29 -> 9904.3688 | H29: =F29*(1+$I$6) -> 28.7358 | I29: =ROUND(H29*E29,2) -> 12111.06 | L29: =((85)+(124)+(125+110+30)+(100)+(76)+(80+66+50+67)+(97+77)+(93)+(78.5)+(41+62+69)+(86.75))*0.1*0.5+(36*0.4*4*6) -> 421.4625
A30: 5.2 | B30: 73916/002 | C30: PLACA ESMALTADA PARA IDENTIFICAÇÃO NR DE RUA, DIMENSÕES 45X25CM | D30: Unid. | E30: =L30 -> 6 | F30: 89 | G30: =F30*E30 -> 534 | H30: =F30*(1+$I$6) -> 108.8292 | I30: =ROUND(H30*E30,2) -> 652.98 | L30: 6
A31: 5.3 | B31: 5213571 | C31: Fornecimento e implantação de placa em aço - película I + III | D31: Unid. | E31: =L31 -> 11 | F31: 275.3 | G31: =F31*E31 -> 3028.3 | H31: =F31*(1+$I$6) -> 336.63684 | I31: =ROUND(H31*E31,2) -> 3703.01 | L31: 11
A32: 5.4 | B32: 5213851 | C32: Fornecimento e implantação de suporte metálico galvanizado para placa de regulamentação - D = 0,60 m | D32: Unid. | E32: =L32 -> 11 | F32: 209 | G32: =F32*E32 -> 2299 | H32: =F32*(1+$I$6) -> 255.5652 | I32: =ROUND(H32*E32,2) -> 2811.22 | L32: 11
A34: TOTAL | B34: - | C34: - | F34: S/ BDI | G34: =SUM(G16:G33) -> 893032.36 | H34: C/ BDI | I34: =SUM(I16:I33)/2 -> 1092000 | L34: =I34*0.98 -> 1070160
A35: OBSERVAÇÕES
A36: Codígo: | C36: Código do custo unitário conforme referência de preço empregada (SETOP, DNIT, SINAPI, DNIT, outras)
A37: Descrição: | C37: Nome do item de acordo com a planilha referência
A38: Unid. | C38: Unidade de medida de cada item
A39: Preço (R$) Sem BDI Unitário: | C39: Preço Unitário para cada item da planilha
A40: Data-base: | C40: mês/ano a que se referem os preços unitários
A41: Planilha de Referência: | C41: SETOP (por região), DER-MG, SUDECAP, SINAPI, DNIT, COPASA, ou outra
A42: BDI (%): | C42: Valor total da composição do BDI em %.
A43: Data: | C43: data de elaboração do orçamento
A44: Somatória Grandes Itens: | C44: Efetuar a soma dos subitens que compõem cada grande item da planilha orçamentária
...

Sheet MEMORIAL DE CÁLCULO
D1: MEMORIAL DE CÁLCULO
A4: ITEM | B4: DESCRIÇÃO DOS SERVIÇOS | O4: UN | Q4: QUANT | T4: MEMÓRIA DE CÁLCULO
A8: 1 | B8: ='Planilha Orçamentária BDMG'!B16:C16 -> INSTALAÇÕES INICIAIS DA OBRA
A9: 1.1 | B9: ='Planilha Orçamentária BDMG'!C17 -> FORNECIMENTOECOLOCAÇÃODEPLACADEOBRAEMCHAPAGALVANIZADA(3,00X1,50M)-EMCHAPAGALVANIZADA0,26AFIXADASCOMREBITES540EPARAFUSOS3/8,EMESTRUTURAMETÁLICAVIGAU2"ENRIJECIDACOMMETALON20X20,SUPORTEEM EUCALIPTO AUTOCLAVADO PINTADAS | O9: ='Planilha Orçamentária BDMG'!D17 -> Unid. | Q9: 1 | T9: 1*1
A10: =Planilha1!B5 -> Rua josé de Almeida
A11: 2 | B11: ='Planilha Orçamentária BDMG'!B18:C18 -> PAVIMENTAÇÃO
A12: 2.1 | B12: ='Planilha Orçamentária BDMG'!C19 -> REGULARIZAÇÃO DO SUB-LEITO (PROCTOR NORMAL) | O12: m² | Q12: =100*6.4 -> 640 | T12: comprim. * larg. (100*6,4)
A13: 2.1.1 | B13: ='Planilha Orçamentária BDMG'!C20 -> EXECUÇÃODECALÇAMENTOEMBLOQUETE-E=8CM - FCK=35MPA,INCLUINDOFORNECIMENTOETRANSPORTEDETODOSOSMATERIAIS, COLCHÃO DE ASSENTAMENTO E = 6 CM | O13: m² | Q13: =100*6.4 -> 640 | T13: comprim. * larg. (100*6,4)
A14: 2.2 | B14: ='Planilha Orçamentária BDMG'!B21:C21 -> CALÇADAS
A15: 2.2.1 | B15: ='Planilha Orçamentária BDMG'!C22 -> EXECUÇÃO DE PASSEIO (CALÇADA) COM CONCRETO MOLDADO IN LOCO FEITO EM OBRA, ACABAMENTO CONVENCIONAL, NÃO ARMADO | O15: m3 | Q15: =200*1.5*0.07 -> 21 | T15: comprim. * larg. * espessura (200 * 1,50 * 0,07)
A16: 2.2.2 | B16: ='Planilha Orçamentária BDMG'!C23 -> LADRILHO HIDRAULICO AMARELO 20X20 (DIRECIONAL) | O16: m | Q16: =(200-12)*0.2 -> 37.6 | T16: (comprim. - descontos) * largura ( 200 - 12)*0,20
A17: 2.2.3 | B17: ='Planilha Orçamentária BDMG'!C24 -> LADRILHO HIDRAULICO VERMELHO 20X20 (ALERTA) | O17: m | Q17: =12.2*0.2 -> 2.44 | T17: comprim. * larg. (12,2 * 0,20)
A18: 2.3 | B18: ='Planilha Orçamentária BDMG'!B25:C25 -> MEIO FIO E SARJETA
A19: 2.3.1 | B19: ='Planilha Orçamentária BDMG'!C26 -> ASSENTAMENTO DE GUIA (MEIO-FIO) EM TRECHO RETO, CONFECCIONADA EM CONCRETOPRÉ-FABRICADO, DIMENSÕES 100X15X13X30 CM (COMPRIMENTO X BASE INFERIOR X BASE SUPERIOR X ALTURA), PARA VIAS URBANAS (USO VIÁRIO) | O19: m | Q19: =100*2 -> 200 | T19: comprim. * quantidade (100*2)
A20: 2.3.2 | B20: ='Planilha Orçamentária BDMG'!C27 -> 30 CM BASE X 10 CM ALTURA EXECUÇÃO DE SARJETA DE CONCRETO USINADO, MOLDADA IN LOCO EM TRECHO RETO | O20: m | Q20: =100*2 -> 200 | T20: comprim. * quantidade (100*2)
A21: =Planilha1!B6 -> Rua José Ferreira Costa
A22: 2 | B22: =B11 -> PAVIMENTAÇÃO
A23: 2.1 | B23: =B12 -> REGULARIZAÇÃO DO SUB-LEITO (PROCTOR NORMAL) | O23: m² | Q23: =140*6 -> 840 | T23: comprim. * larg. (140*6,0)
A24: 2.2 | B24: =B13 -> EXECUÇÃODECALÇAMENTOEMBLOQUETE-E=8CM - FCK=35MPA,INCLUINDOFORNECIMENTOETRANSPORTEDETODOSOSMATERIAIS, COLCHÃO DE ASSENTAMENTO E = 6 CM | O24: m² | Q24: =Q23 -> 840 | T24: =T23 -> comprim. * larg. (140*6,0)
A25: 2.2 | B25: =B14 -> CALÇADAS
A26: 2.2.1 | B26: =B15 -> EXECUÇÃO DE PASSEIO (CALÇADA) COM CONCRETO MOLDADO IN LOCO FEITO EM OBRA, ACABAMENTO CONVENCIONAL, NÃO ARMADO | O26: m³ | Q26: =280*1.5*0.07 -> 29.4 | T26: comprim. * larg. * espessura (280 * 1,50 * 0,07)
A27: 2.2.2 | B27: =B16 -> LADRILHO HIDRAULICO AMARELO 20X20 (DIRECIONAL) | O27: m | Q27: =(280-12)*0.2 -> 53.6 | T27: (comprim. - descontos )* larg. (280-12*0,20)
A28: 2.2.3 | B28: =B17 -> LADRILHO HIDRAULICO VERMELHO 20X20 (ALERTA) | O28: m | Q28: =12.8*0.2 -> 2.56 | T28: comprim. * larg . (12,80*0,20)
A29: 2.3 | B29: =B18 -> MEIO FIO E SARJETA
A30: 2.3.1 | B30: =B19 -> ASSENTAMENTO DE GUIA (MEIO-FIO) EM TRECHO RETO, CONFECCIONADA EM CONCRETOPRÉ-FABRICADO, DIMENSÕES 100X15X13X30 CM (COMPRIMENTO X BASE INFERIOR X BASE SUPERIOR X ALTURA), PARA VIAS URBANAS (USO VIÁRIO) | O30: m | Q30: =140*2 -> 280 | T30: comprim. * quantidade (140*2)
A31: 2.3.2 | B31: =B20 -> 30 CM BASE X 10 CM ALTURA EXECUÇÃO DE SARJETA DE CONCRETO USINADO, MOLDADA IN LOCO EM TRECHO RETO | O31: m | Q31: =140*2 -> 280 | T31: comprim. * quantidade (140*2)
A32: =Planilha1!B7 -> Rua Mendes Ramos
A33: 2 | B33: =B22 -> PAVIMENTAÇÃO
A34: 2.1 | B34: =B23 -> REGULARIZAÇÃO DO SUB-LEITO (PROCTOR NORMAL) | O34: =O23 -> m² | Q34: =(342*6)+(5*2*6) -> 2112 | T34: comprim. * larg. (342*6)+ entrada das transversais (5*2*6)
A35: 2.2 | B35: =B24 -> EXECUÇÃODECALÇAMENTOEMBLOQUETE-E=8CM - FCK=35MPA,INCLUINDOFORNECIMENTOETRANSPORTEDETODOSOSMATERIAIS, COLCHÃO DE ASSENTAMENTO E = 6 CM | O35: =O24 -> m² | Q35: =Q34 -> 2112 | T35: =T34 -> comprim. * larg. (342*6)+ entrada das transversais (5*2*6)
A36: 2.2 | B36: =B25 -> CALÇADAS
A37: 2.2.1 | B37: =B26 -> EXECUÇÃO DE PASSEIO (CALÇADA) COM CONCRETO MOLDADO IN LOCO FEITO EM OBRA, ACABAMENTO CONVENCIONAL, NÃO ARMADO | O37: =O26 -> m³ | Q37: =(684-(7*6))*1.5*0.07 -> 67.41 | T37: comprim. - transversais * largura * espessura 684 - (7*6) * (1,5) * (0,07)
A38: 2.2.2 | B38: =B27 -> LADRILHO HIDRAULICO AMARELO 20X20 (DIRECIONAL) | O38: =O27 -> m | Q38: =(680-49-36)*0.2 -> 119 | T38: (comprim. - descontos )* larg. (680-49-36) * 0,20
A39: 2.2.3 | B39: =B28 -> LADRILHO HIDRAULICO VERMELHO 20X20 (ALERTA) | O39: =O28 -> m | Q39: =20*0.2 -> 4 | T39: comprim. * larg. ( 20*0,20)
A40: 2.3 | B40: =B29 -> MEIO FIO E SARJETA
A41: 2.3.1 | B41: =B30 -> ASSENTAMENTO DE GUIA (MEIO-FIO) EM TRECHO RETO, CONFECCIONADA EM CONCRETOPRÉ-FABRICADO, DIMENSÕES 100X15X13X30 CM (COMPRIMENTO X BASE INFERIOR X BASE SUPERIOR X ALTURA), PARA VIAS URBANAS (USO VIÁRIO) | O41: =O30 -> m | Q41: =342*2-7*6+2*5 -> 652 | T41: comprim. (342*2)- transversais (7*6)+ entradas das transversais e travamentos (2*5)
A42: 2.3.2 | B42: =B31 -> 30 CM BASE X 10 CM ALTURA EXECUÇÃO DE SARJETA DE CONCRETO USINADO, MOLDADA IN LOCO EM TRECHO RETO | O42: =O31 -> m | Q42: =Q41 -> 652 | T42: =T41 -> comprim. (342*2)- transversais (7*6)+ entradas das transversais e travamentos (2*5)
A43: =Planilha1!B8 -> Rua Porfírio Souto de Almeida
A44: 2 | B44: =B33 -> PAVIMENTAÇÃO
A45: 2.1 | B45: =B34 -> REGULARIZAÇÃO DO SUB-LEITO (PROCTOR NORMAL) | O45: =O34 -> m² | Q45: =Planilha1!L8 -> 660 | T45: comprim. * larg. (110*6)
...

Sheet FISICO FINANCEIRO
A1: CRONOGRAMA FÍSICO E FINANCEIRO DA OBRA
A4: INFORMAÇÕES GERAIS
A6: Município: Novorizonte - MG | H6: Projeto: PAVIMENTAÇÃO DE VIAS URBANAS
H7: Responsável Técnico: Vinícius Modesto Costa Matos
A8: Prefeito(a): Arley Costa Mendes | H8: Data de início da obra: 01/03/2019
A9: CRONOGRAMA FÍSICO E FINANCEIRO DA OBRA
A10: ITEM | B10: DESCRIÇÃO | C10: VALOR DOS SERVIÇOS | E10: 1 | G10: =E10+1 -> 2 | I10: =G10+1 -> 3 | K10: =I10+1 -> 4
B11: Grandes Itens (Etapas da obra) | C11: R$ | D11: Peso % | E11: R$ | F11: Peso % | G11: R$ | H11: Peso % | I11: R$ | J11: Peso % | K11: R$ | L11: Peso %
A12: 1 | B12: INSTALAÇÕES INICIAIS DA OBRA | C12: 1098.26 | D12: =IFERROR(C12/$C$28,"") -> 0.0010057326 | E12: =(C12*F12) -> 1098.26 | F12: 1 | H12: =IFERROR(G12/C12,"") -> 0 | J12: =IFERROR(I12/C12,"") -> 0 | L12: =IFERROR(K12/C12,"") -> 0
A13: 2 | B13: PAVIMENTAÇÃO | C13: 632501.3 | D13: =IFERROR(C13/$C$28,"") -> 0.57921364 | E13: =(C13*F13) -> 189750.39 | F13: 0.3 | G13: =(C13*H13) -> 126500.26 | H13: 0.2 | I13: =(C13*J13) -> 158125.33 | J13: 0.25 | K13: =(C13*L13) -> 158125.33 | L13: 0.25 | M13: TOTAL GERAL
A14: 3 | B14: CALÇADA | C14: 201656.85 | D14: =IFERROR(C14/$C$28,"") -> 0.18466745 | E14: =(C14*F14) -> 60497.055 | F14: 0.3 | G14: =(C14*H14) -> 40331.37 | H14: 0.2 | I14: =(C14*J14) -> 50414.213 | J14: 0.25 | K14: =(C14*L14) -> 50414.213 | L14: 0.25 | M14: 1 | N14: %
A15: 4 | B15: MEIO-FIO E SARJETA | C15: 237465.32 | D15: =IFERROR(C15/$C$28,"") -> 0.21745908 | E15: =(C15*F15) -> 71239.596 | F15: 0.3 | G15: =(C15*H15) -> 47493.064 | H15: 0.2 | I15: =(C15*J15) -> 59366.33 | J15: 0.25 | K15: =(C15*L15) -> 59366.33 | L15: 0.25 | M15: =E12+G12+I12+K12+#REF!+#REF! -> #REF! | N15: =F12+H12+J12+L12+#REF!+#REF! -> #REF!
A16: 5 | B16: SINALIZAÇÃO | C16: 19278.27 | D16: =IFERROR(C16/$C$28,"") -> 0.017654093 | E16: =(C16*F16) -> 5783.481 | F16: 0.3 | G16: =(C16*H16) -> 3855.654 | H16: 0.2 | I16: =(C16*J16) -> 4819.5675 | J16: 0.25 | K16: =(C16*L16) -> 4819.5675 | L16: 0.25 | M16: =E13+G13+I13+K13+#REF!+#REF! -> #REF! | N16: =F13+H13+J13+L13+#REF!+#REF! -> #REF!
A17: 6 | F17: =IFERROR(E17/C17,"") | H17: =IFERROR(G17/C17,"") | J17: =IFERROR(I17/C17,"") | L17: =IFERROR(K17/C17,"") | M17: =E14+G14+I14+K14+#REF!+#REF! -> #REF! | N17: =F14+H14+J14+L14+#REF!+#REF! -> #REF!
A18: 7 | F18: =IFERROR(E18/C18,"") | H18: =IFERROR(G18/C18,"") | J18: =IFERROR(I18/C18,"") | L18: =IFERROR(K18/C18,"") | M18: =E15+G15+I15+K15+#REF!+#REF! -> #REF! | N18: =F15+H15+J15+L15+#REF!+#REF! -> #REF!
A19: 8 | F19: =IFERROR(E19/C19,"") | H19: =IFERROR(G19/C19,"") | J19: =IFERROR(I19/C19,"") | L19: =IFERROR(K19/C19,"") | M19: =E16+G16+I16+K16+#REF!+#REF! -> #REF! | N19: =F16+H16+J16+L16+#REF!+#REF! -> #REF!
A20: 9 | F20: =IFERROR(E20/C20,"") | H20: =IFERROR(G20/C20,"") | J20: =IFERROR(I20/C20,"") | L20: =IFERROR(K20/C20,"") | M20: =E17+G17+I17+K17+#REF!+#REF! -> #REF! | N20: =F17+H17+J17+L17+#REF!+#REF! -> #VALUE!
A21: 10 | F21: =IFERROR(E21/C21,"") | H21: =IFERROR(G21/C21,"") | J21: =IFERROR(I21/C21,"") | L21: =IFERROR(K21/C21,"") | M21: =E18+G18+I18+K18+#REF!+#REF! -> #REF! | N21: =F18+H18+J18+L18+#REF!+#REF! -> #VALUE!
A22: 11 | F22: =IFERROR(E22/C22,"") | H22: =IFERROR(G22/C22,"") | J22: =IFERROR(I22/C22,"") | L22: =IFERROR(K22/C22,"") | M22: =E19+G19+I19+K19+#REF!+#REF! -> #REF! | N22: =F19+H19+J19+L19+#REF!+#REF! -> #VALUE!
A23: 12 | F23: =IFERROR(E23/C23,"") | H23: =IFERROR(G23/C23,"") | J23: =IFERROR(I23/C23,"") | L23: =IFERROR(K23/C23,"") | M23: =E20+G20+I20+K20+#REF!+#REF! -> #REF! | N23: =F20+H20+J20+L20+#REF!+#REF! -> #VALUE!
A24: 13 | F24: =IFERROR(E24/C24,"") | H24: =IFERROR(G24/C24,"") | J24: =IFERROR(I24/C24,"") | L24: =IFERROR(K24/C24,"") | M24: =E21+G21+I21+K21+#REF!+#REF! -> #REF! | N24: =F21+H21+J21+L21+#REF!+#REF! -> #VALUE!
A25: 14 | F25: =IFERROR(E25/C25,"") | H25: =IFERROR(G25/C25,"") | J25: =IFERROR(I25/C25,"") | L25: =IFERROR(K25/C25,"") | M25: =E22+G22+I22+K22+#REF!+#REF! -> #REF! | N25: =F22+H22+J22+L22+#REF!+#REF! -> #VALUE!
A26: 15 | F26: =IFERROR(E26/C26,"") | H26: =IFERROR(G26/C26,"") | J26: =IFERROR(I26/C26,"") | L26: =IFERROR(K26/C26,"") | M26: =E23+G23+I23+K23+#REF!+#REF! -> #REF! | N26: =F23+H23+J23+L23+#REF!+#REF! -> #VALUE!
M27: =E24+G24+I24+K24+#REF!+#REF! -> #REF! | N27: =F24+H24+J24+L24+#REF!+#REF! -> #VALUE!
A28: TOTAIS | C28: =SUM(C12:C26) -> 1092000 | D28: =SUM(D12:D26) -> 1 | E28: =SUM(E12:E26) -> 328368.78 | F28: =IFERROR(E28/$C$28,0) -> 0.30070401 | G28: =SUM(G12:G26) -> 218180.35 | H28: =IFERROR(G28/$C$28,0) -> 0.19979885 | I28: =SUM(I12:I26) -> 272725.43 | J28: =IFERROR(I28/$C$28,0) -> 0.24974857 | K28: =SUM(K12:K26) -> 272725.43 | L28: =IFERROR(K28/$C$28,0) -> 0.24974857 | M28: =E25+G25+I25+K25+#REF!+#REF! -> #REF! | N28: =F25+H25+J25+L25+#REF!+#REF! -> #VALUE!
A29: TOTAIS ACUMULADOS | C29: =LARGE(E29:L29,1) -> 1092000 | D29: =IFERROR(C29/C28,0) -> 1 | E29: =E28 -> 328368.78 | F29: =F28 -> 0.30070401 | G29: =E29+G28 -> 546549.13 | H29: =F29+H28 -> 0.50050287 | I29: =G29+I28 -> 819274.56 | J29: =H29+J28 -> 0.75025143 | K29: =I29+K28 -> 1092000 | L29: =J29+L28 -> 1 | M29: =E26+G26+I26+K26+#REF!+#REF! -> #REF! | N29: =F26+H26+J26+L26+#REF!+#REF! -> #VALUE!
A31: Município de Novorizonte, 30 de janeiro de 2019 | M31: =SUM(M15:M25) -> #REF! | N31: =F28+H28+J28+L28+#REF!+#REF! -> #REF!
D32: ___________________________________________ Responsável Técnico: Vinícius Modesto Costa Matos / CREA: MG2191.80/D
A36: Observações:
A37: 1. Caso o prazo exceda 6 meses, acrescentar as colunas necessárias.
A38: 2. Caso o prazo seja inferior a seis meses, utilizar as colunas necessárias (exemplo: se o prazo for de um mês, preencher somente referente ao 1º mês).
A39: 3. Acrescentar linhas, se o número de grandes itens superar as linhas existentes.
